BEGIN:VCALENDAR
VERSION:2.0
PRODID:-//Plone.org//NONSGML plone.app.event//EN
X-WR-TIMEZONE:Europe/Berlin
BEGIN:VEVENT
SUMMARY:Good Manufacturing Practice (GMP)
DTSTART;TZID=Europe/Berlin:20230115T090000
DTEND;TZID=Europe/Berlin:20230116T163000
DTSTAMP:20260422T033442Z
UID:2aaedfe8b1f84af7b59fddbfd4bc151e@www.trr259.uni-bonn.de
CREATED:20230120T115641Z
DESCRIPTION:Good Manufacturing Practice (GMP) offers guidelines for qualit
 y assurance in the production of pharmaceuticals. Knowledge of GMP is ofte
 n a crucial requirement when applying for industry jobs\, especially in th
 e pharmaceutical sector. This GMP basic course focusses on topics that wil
 l be applicable to their industry position. We cooperate directly with wel
 l-known companies of the Life Science sector. Additionally\, you get the c
 hance to come into contact with prospective employers. After successful ex
 amination the attendees receive the GMP certificate\, issued by the certif
 ied provider.
LAST-MODIFIED:20250906T005614Z
URL:https://www.trr259.uni-bonn.de/en/irtg/soft-skill-courses-1/good-manuf
 acturing-practice-gmp
END:VEVENT
BEGIN:VTIMEZONE
TZID:Europe/Berlin
X-LIC-LOCATION:Europe/Berlin
BEGIN:STANDARD
DTSTART:20221030T020000
TZNAME:CET
TZOFFSETFROM:+0200
TZOFFSETTO:+0100
END:STANDARD
END:VTIMEZONE
END:VCALENDAR
